BEGIN:VCALENDAR
VERSION:2.0
PRODID:-//Stormy Mountain Brewing - ECPv4.6.16//NONSGML v1.0//EN
CALSCALE:GREGORIAN
METHOD:PUBLISH
X-WR-CALNAME:Stormy Mountain Brewing
X-ORIGINAL-URL:http://stormymountainbrewing.com
X-WR-CALDESC:Events for Stormy Mountain Brewing
BEGIN:VEVENT
DTSTART;TZID=America/Los_Angeles:20190917T080000
DTEND;TZID=America/Los_Angeles:20190917T170000
DTSTAMP:20260422T113512
CREATED:20190917T181423Z
LAST-MODIFIED:20190917T181423Z
UID:151-1568707200-1568739600@stormymountainbrewing.com
SUMMARY:Chelan Valley Homebrewing Club
DESCRIPTION:Join your fellow homebrewers as we celebrate homemade beer\, wine\, cider\, and kombucha!  We’ll sample and discuss brewing techniques\, hear from Brewer Garth about professional equipment and ingredients\, and raffle some fun prizes.  Last Friday of every month\, 7 PM in the Butte Room.  See you there! \n \n
URL:http://stormymountainbrewing.com/event/chelan-valley-homebrewing-club/
END:VEVENT
END:VCALENDAR