BEGIN:VCALENDAR
VERSION:2.0
PRODID:-//Stormy Mountain Brewing - ECPv4.6.16//NONSGML v1.0//EN
CALSCALE:GREGORIAN
METHOD:PUBLISH
X-WR-CALNAME:Stormy Mountain Brewing
X-ORIGINAL-URL:http://stormymountainbrewing.com
X-WR-CALDESC:Events for Stormy Mountain Brewing
BEGIN:VEVENT
DTSTART;TZID=America/Los_Angeles:20200131T190000
DTEND;TZID=America/Los_Angeles:20200131T203000
DTSTAMP:20260425T002554
CREATED:20200123T190838Z
LAST-MODIFIED:20200123T190838Z
UID:181-1580497200-1580502600@stormymountainbrewing.com
SUMMARY:Chelan Valley Homebrew Club
DESCRIPTION:Chelan Valley Homebrew Club @ Stormy Mountain Brewing \nIf you make beer\, cider\, wine\, or kombucha at home\, come on down to the Chelan Valley Homebrew Club!  This month we will be sampling barley malt used in beermaking and will have samples of December’s Chocolate Porter Club Brew.  We’ll be planning February’s Cider Club Brew at this meeting. \n \n
URL:http://stormymountainbrewing.com/event/chelan-valley-homebrew-club-2/
LOCATION:133 E Woodin Ave\, Chelan\, WA\, 98816\, United States
ORGANIZER;CN="Stormy%20Mountain%20Brewing":MAILTO:garth@stormymountainbrewing.com
END:VEVENT
END:VCALENDAR