BEGIN:VCALENDAR
VERSION:2.0
PRODID:-//Stormy Mountain Brewing - ECPv4.6.16//NONSGML v1.0//EN
CALSCALE:GREGORIAN
METHOD:PUBLISH
X-WR-CALNAME:Stormy Mountain Brewing
X-ORIGINAL-URL:http://stormymountainbrewing.com
X-WR-CALDESC:Events for Stormy Mountain Brewing
BEGIN:VEVENT
DTSTART;TZID=America/Los_Angeles:20200227T183000
DTEND;TZID=America/Los_Angeles:20200227T203000
DTSTAMP:20260425T020141
CREATED:20200123T192507Z
LAST-MODIFIED:20200123T192507Z
UID:183-1582828200-1582835400@stormymountainbrewing.com
SUMMARY:Brews and Soap Making Class
DESCRIPTION:Learn how to make 100% natural goat milk soap in this hands-on class. Each attendee will make two pounds of their own soap to take home. All materials required for the class will be provided at no additional cost. Purchase required before the event. Click the link below to purchase your spot before it fills up! \nAvailable Options\n• exfoliants: pumice\, coffee grounds\, ground oats\, dried lemongrass\n• essential oils: lemongrass\, lavender\, peppermint\, eucalyptus\n• base oils will be a mixture of olive\, coconut and palm oil\n• liquid for the soap will be raw goat milk from Stone City Farm \nWhat are the benefits of making your own soap?\n• natural ingredients\n• no preservatives\n• no chemicals\n• natural soap makes a wonderful gift \nSoap Making | WA \n \n
URL:http://stormymountainbrewing.com/event/brews-and-soap-making-class/
LOCATION:133 E Woodin Ave\, Chelan\, WA\, 98816\, United States
ORGANIZER;CN="Stormy%20Mountain%20Brewing":MAILTO:garth@stormymountainbrewing.com
END:VEVENT
END:VCALENDAR